BEGIN:VCALENDAR
VERSION:2.0
PRODID:-//Seven Sisters Campground - ECPv6.15.20//NONSGML v1.0//EN
CALSCALE:GREGORIAN
METHOD:PUBLISH
X-ORIGINAL-URL:https://www.sevensisterscampground.com
X-WR-CALDESC:Events for Seven Sisters Campground
REFRESH-INTERVAL;VALUE=DURATION:PT1H
X-Robots-Tag:noindex
X-PUBLISHED-TTL:PT1H
BEGIN:VTIMEZONE
TZID:America/New_York
BEGIN:DAYLIGHT
TZOFFSETFROM:-0500
TZOFFSETTO:-0400
TZNAME:EDT
DTSTART:20250309T070000
END:DAYLIGHT
BEGIN:STANDARD
TZOFFSETFROM:-0400
TZOFFSETTO:-0500
TZNAME:EST
DTSTART:20251102T060000
END:STANDARD
BEGIN:DAYLIGHT
TZOFFSETFROM:-0500
TZOFFSETTO:-0400
TZNAME:EDT
DTSTART:20260308T070000
END:DAYLIGHT
BEGIN:STANDARD
TZOFFSETFROM:-0400
TZOFFSETTO:-0500
TZNAME:EST
DTSTART:20261101T060000
END:STANDARD
BEGIN:DAYLIGHT
TZOFFSETFROM:-0500
TZOFFSETTO:-0400
TZNAME:EDT
DTSTART:20270314T070000
END:DAYLIGHT
BEGIN:STANDARD
TZOFFSETFROM:-0400
TZOFFSETTO:-0500
TZNAME:EST
DTSTART:20271107T060000
END:STANDARD
END:VTIMEZONE
BEGIN:VEVENT
DTSTART;TZID=America/New_York:20260307T100000
DTEND;TZID=America/New_York:20260307T170000
DTSTAMP:20260419T185848
CREATED:20260101T152755Z
LAST-MODIFIED:20260101T160210Z
UID:1662-1772877600-1772902800@www.sevensisterscampground.com
SUMMARY:9th Annual Chassahowitzka Community Catch Fishing Tournament
DESCRIPTION:$15 – $1\,500\n\nTrout & redfish tournament\, cash prizes\, raffles\, food & fish fry weekend benefiting local youth and the Chassahowitzka community.”\n\n\n\n\nEvent Overview\nThe 9th Annual Chassahowitzka Community Catch Fishing Tournament is a nonprofit redfish and trout tournament hosted by the Chassahowitzka Civic Association\, dedicated to raising funds for local and surrounding communities. \nThis year\, the majority of proceeds will benefit 352 Legends\, a local youth sports nonprofit focused on developing the next generation through values of respect\, teamwork\, perseverance\, personal growth\, and community engagement. \nWe are committed to making this our most impactful tournament yet — bringing together anglers\, families\, and supporters for a weekend of fishing\, food\, and giving back. \nTournament Schedule\n\nFriday\, March 6 – Mandatory Captains Meeting\n📍 Seven Sisters Campground\nSaturday\, March 7 – Tournament Day & Weigh-Ins\n📍 Seven Sisters Campground\nSunday\, March 8 – Awards Ceremony & Community Dinner\n📍 First Christian Church of Chassahowitzka\n11275 S Riviera Dr\, Homosassa\, FL\n\nDivisions & Payouts\nOne Award Per Angler Per Category \nTrout\n🥇 1st – $1\,000\n🥈 2nd – $500\n🥉 3rd – $300 \nRedfish\n🥇 1st – $1\,000\n🥈 2nd – $500\n🥉 3rd – $300 \nCalcutta – Most Redfish Spots\n$10 Optional Entry • 75% Payout \nYouth Division (16 & Under) – Trophies Awarded \n  \n\n\nLearn More
URL:https://www.sevensisterscampground.com/event/9th-annual-chassahowitzka-community-catch-fishing-tournament/
LOCATION:Address\, 8554 W Miss Maggie Dr
CATEGORIES:Other,Sports & Fitness
ATTACH;FMTTYPE=image/png:https://www.sevensisterscampground.com/app/uploads/2026/01/9th-Annual-Chassahowitzka-Community-Catch-Fishing-Tournament.png
END:VEVENT
END:VCALENDAR